BEGIN:VCALENDAR
BEGIN:VEVENT
SUMMARY:Sessa (BRA)
DTSTART;TZID=Europe/Zurich:20261006T210000
DTEND;TZID=Europe/Zurich:20261007T030000
LOCATION:Kuppel Basel\, Nachtigallenwäldeli 9\, 4051 Basel
URL:https://www.petzi.ch/en/events/63384-kuppel-sessa-bra/
END:VEVENT
END:VCALENDAR
