BEGIN:VCALENDAR
BEGIN:VEVENT
SUMMARY:Los Billtones // Idris et la Meute // Crimson Crown – am OXIL Sa
 isonschluss
DTSTART;TZID=Europe/Zurich:20260509T161500
DTEND;TZID=Europe/Zurich:20260509T221500
LOCATION:OXIL\, Obere Brühlstrasse 6\, 4800 Zofingen
URL:https://www.petzi.ch/en/events/63381-oxil-los-billtones-idris-et-la-me
 ute-crimson-crown-am-oxil-saisonschluss/
END:VEVENT
END:VCALENDAR
