BEGIN:VCALENDAR
BEGIN:VEVENT
SUMMARY:Chilli Mari & Friends // Mercee – am OXIL Saisonschluss
DTSTART;TZID=Europe/Zurich:20260509T170000
DTEND;TZID=Europe/Zurich:20260509T230000
LOCATION:OXIL\, Obere Brühlstrasse 6\, 4800 Zofingen
URL:https://www.petzi.ch/en/events/63380-oxil-chilli-mari-friends-mercee-a
 m-oxil-saisonschluss/
END:VEVENT
END:VCALENDAR
