BEGIN:VCALENDAR
BEGIN:VEVENT
SUMMARY:MARGUERITE (FR)
DTSTART;TZID=Europe/Zurich:20270116T203000
DTEND;TZID=Europe/Zurich:20270117T023000
LOCATION:Docks\, Avenue de Sévelin 34\, 1004 Lausanne
URL:https://www.petzi.ch/en/events/63373-docks-marguerite-fr/
END:VEVENT
END:VCALENDAR
