BEGIN:VCALENDAR
BEGIN:VEVENT
SUMMARY:Yacøpsæ (DE) + Exorbitant Prices Must Diminish (CH) + Shitbrains
  (US) + Fetophagia (CH)
DTSTART;TZID=Europe/Zurich:20260508T203000
DTEND;TZID=Europe/Zurich:20260509T023000
LOCATION:Ebullition\, Rue de Vevey 34\, 1630 Bulle
URL:https://www.petzi.ch/en/events/63081-ebullition-yacps-de-exorbitant-pr
 ices-must-diminish-ch-shitbrains-us-fetophagia-ch/
END:VEVENT
END:VCALENDAR
