BEGIN:VCALENDAR
BEGIN:VEVENT
SUMMARY:Way Dynamic (AUS) & Support: claire my fLair (CH)
DTSTART;TZID=Europe/Zurich:20260522T203000
DTEND;TZID=Europe/Zurich:20260523T023000
LOCATION:Bogen F\, Viaduktstrasse 97\, 8005 Zürich
URL:https://www.petzi.ch/en/events/62884-bogen-f-way-dynamic-aus-support-c
 laire-my-flair-ch/
END:VEVENT
END:VCALENDAR
