BEGIN:VCALENDAR
BEGIN:VEVENT
SUMMARY:SOLD OUT: A Place to Bury Strangers (US) & Support: Kontravoid (CA
 N)
DTSTART;TZID=Europe/Zurich:20260424T203000
DTEND;TZID=Europe/Zurich:20260425T023000
LOCATION:Bogen F\, Viaduktstrasse 97\, 8005 Zürich
URL:https://www.petzi.ch/en/events/62880-bogen-f-sold-out-a-place-to-bury-
 strangers-us-support-kontravoid-can/
END:VEVENT
END:VCALENDAR
