BEGIN:VCALENDAR
BEGIN:VEVENT
SUMMARY:Rap en scène : Dibby & OORALISE
DTSTART;TZID=Europe/Zurich:20260516T203000
DTEND;TZID=Europe/Zurich:20260517T023000
LOCATION:NED MUSIC CLUB\, Rue du marché 19\, Rue du Marché 19\, 1820 Mon
 treux
URL:https://www.petzi.ch/en/events/62413-ned-music-club-rap-en-scene-dibby
 -ooralise/
END:VEVENT
END:VCALENDAR
