BEGIN:VCALENDAR
BEGIN:VEVENT
SUMMARY:Groovadelic
DTSTART;TZID=Europe/Zurich:20190112T220000
DTEND;TZID=Europe/Zurich:20190113T040000
LOCATION:Zoo - Usine\, Place des Volontaires 4\, 1204 Genève
URL:https://www.petzi.ch/en/events/40739-zoo-usine-groovadelic/
END:VEVENT
END:VCALENDAR
