BEGIN:VCALENDAR
BEGIN:VEVENT
SUMMARY:SENTO "The Phoenix Tour" I Gaskessel Bern
DTSTART;TZID=Europe/Zurich:20261113T203000
DTEND;TZID=Europe/Zurich:20261114T023000
LOCATION:Gaskessel\, Sandrainstrasse 25\, 3007 Bern
URL:https://www.petzi.ch/de/events/63419-gaskessel-sento-the-phoenix-tour-
 i-gaskessel-bern/
END:VEVENT
END:VCALENDAR
