BEGIN:VCALENDAR
BEGIN:VEVENT
SUMMARY:Karaoke
DTSTART;TZID=Europe/Zurich:20260515T210000
DTEND;TZID=Europe/Zurich:20260516T030000
LOCATION:KUFA\, Werdtstrasse 17\, 3250 Lyss
URL:https://www.petzi.ch/de/events/63406-kufa-karaoke/
END:VEVENT
END:VCALENDAR
