BEGIN:VCALENDAR
BEGIN:VEVENT
SUMMARY:Bismut (NL) /progressive heavy psych / grillieren ab 1700Uhr (Gril
 lade selbst mitbringen)
DTSTART;TZID=Europe/Zurich:20260531T233000
DTEND;TZID=Europe/Zurich:20260601T053000
LOCATION:Schüxenhaus Ins\, Bielstrasse 71\, 3232 Ins
URL:https://www.petzi.ch/de/events/63395-schuxenhaus-ins-bismut-nl-progres
 sive-heavy-psych-grillieren-ab-1700uhr-grillade-selbst-mitbringen/
END:VEVENT
END:VCALENDAR
