BEGIN:VCALENDAR
BEGIN:VEVENT
SUMMARY:12h à Sebring X FESTIVAL FÉCULE
DTSTART;TZID=Europe/Zurich:20260508T210000
DTEND;TZID=Europe/Zurich:20260510T030000
LOCATION:Satellite\, Bâtiment CM EPFL\, Avenue Piccard\, 1015 Lausanne
URL:https://www.petzi.ch/de/events/63393-satellite-12h-a-sebring-x-festiva
 l-fecule/
END:VEVENT
END:VCALENDAR
