BEGIN:VCALENDAR
BEGIN:VEVENT
SUMMARY:live: glitchBABY (Hatepop\; Basel)\, Corokia (Zürich) und Desert 
 Lily (Luzern)
DTSTART;TZID=Europe/Zurich:20260530T203000
DTEND;TZID=Europe/Zurich:20260531T023000
LOCATION:Kraftfeld\, Lagerplatz 18\, 8400 Winterthur
URL:https://www.petzi.ch/de/events/63391-kraftfeld-live-glitchbaby-hatepop
 -basel-corokia-zurich-und-desert-lily-luzern/
END:VEVENT
END:VCALENDAR
