BEGIN:VCALENDAR
BEGIN:VEVENT
SUMMARY:Femi Luna
DTSTART;TZID=Europe/Zurich:20261015T201500
DTEND;TZID=Europe/Zurich:20261016T021500
LOCATION:Helsinki\, Geroldstrasse 35\, 8005 Zürich
URL:https://www.petzi.ch/de/events/63387-helsinki-femi-luna/
END:VEVENT
END:VCALENDAR
