BEGIN:VCALENDAR
BEGIN:VEVENT
SUMMARY:Follia 2/2
DTSTART;TZID=Europe/Zurich:20260527T194500
DTEND;TZID=Europe/Zurich:20260528T014500
LOCATION:Helsinki\, Geroldstrasse 35\, 8005 Zürich
URL:https://www.petzi.ch/de/events/63382-helsinki-follia-22/
END:VEVENT
END:VCALENDAR
