BEGIN:VCALENDAR
BEGIN:VEVENT
SUMMARY:Gutter Queens // Roshâni  – am OXIL Saisonschluss
DTSTART;TZID=Europe/Zurich:20260509T220000
DTEND;TZID=Europe/Zurich:20260510T040000
LOCATION:OXIL\, Obere Brühlstrasse 6\, 4800 Zofingen
URL:https://www.petzi.ch/de/events/63379-oxil-gutter-queens-roshani-am-oxi
 l-saisonschluss/
END:VEVENT
END:VCALENDAR
