BEGIN:VCALENDAR
BEGIN:VEVENT
SUMMARY:Redlectures Polit Talks 2026 –  "Zeitenwende Schweiz“ mit Arma
 n Spéth und Dominic Iten
DTSTART;TZID=Europe/Zurich:20260503T173000
DTEND;TZID=Europe/Zurich:20260503T233000
LOCATION:Rössli Bar - Verein Restaurant Sous Le Pont\, Neubrückstrasse 8
 \, 3001 Bern
URL:https://www.petzi.ch/de/events/63377-rossli-bar-verein-restaurant-sous
 -le-pont-redlectures-polit-talks-2026-zeitenwende-schweiz-mit-arman-speth-
 und-dominic-iten/
END:VEVENT
END:VCALENDAR
