BEGIN:VCALENDAR
BEGIN:VEVENT
SUMMARY:Street Dance Consortium – 20 Years Anniversary
DTSTART;TZID=Europe/Zurich:20260503T130000
DTEND;TZID=Europe/Zurich:20260503T190000
LOCATION:Undertown\, Place des cinq continents 1\, 1217 Meyrin
URL:https://www.petzi.ch/de/events/63374-undertown-street-dance-consortium
 -20-years-anniversary/
END:VEVENT
END:VCALENDAR
