BEGIN:VCALENDAR
BEGIN:VEVENT
SUMMARY:YASMINE HAMDAN (LBN)
DTSTART;TZID=Europe/Zurich:20260917T193000
DTEND;TZID=Europe/Zurich:20260918T013000
LOCATION:Fri-Son\, Route de la Fonderie 13\, 1700 Fribourg
URL:https://www.petzi.ch/de/events/63370-fri-son-yasmine-hamdan-lbn/
END:VEVENT
END:VCALENDAR
