BEGIN:VCALENDAR
BEGIN:VEVENT
SUMMARY:Technoid
DTSTART;TZID=Europe/Zurich:20260424T230000
DTEND;TZID=Europe/Zurich:20260425T050000
LOCATION:Flösserplatz\, Flösserstrasse 7\, 5000 Aarau
URL:https://www.petzi.ch/de/events/63304-flosserplatz-technoid/
END:VEVENT
END:VCALENDAR
