BEGIN:VCALENDAR
BEGIN:VEVENT
SUMMARY:WALLACE CLEAVER (FR) « Marcel tour »
DTSTART;TZID=Europe/Zurich:20261114T203000
DTEND;TZID=Europe/Zurich:20261115T023000
LOCATION:Docks\, Avenue de Sévelin 34\, 1004 Lausanne
URL:https://www.petzi.ch/de/events/63293-docks-wallace-cleaver-fr-marcel-t
 our/
END:VEVENT
END:VCALENDAR
