BEGIN:VCALENDAR
BEGIN:VEVENT
SUMMARY:24 KIARA + Godasse au NED Music Club
DTSTART;TZID=Europe/Zurich:20260606T203000
DTEND;TZID=Europe/Zurich:20260607T023000
LOCATION:NED MUSIC CLUB\, Rue du marché 19\, Rue du Marché 19\, 1820 Mon
 treux
URL:https://www.petzi.ch/de/events/63206-ned-music-club-24-kiara-godasse-a
 u-ned-music-club/
END:VEVENT
END:VCALENDAR
