BEGIN:VCALENDAR
BEGIN:VEVENT
SUMMARY:Official CSD Afterparty 🏳️‍🌈 CHRISTOPHER STREET NIGHT! I
 SC x QFR x Brasserie Lorraine
DTSTART;TZID=Europe/Zurich:20260516T200000
DTEND;TZID=Europe/Zurich:20260517T020000
LOCATION:ISC\, Neubrückstrasse 10\, 3012 Bern
URL:https://www.petzi.ch/de/events/63182-isc-official-csd-afterparty-chris
 topher-street-night-isc-x-qfr-x-brasserie-lorraine/
END:VEVENT
END:VCALENDAR
