BEGIN:VCALENDAR
BEGIN:VEVENT
SUMMARY:SESSA (BRA)
DTSTART;TZID=Europe/Zurich:20261010T203000
DTEND;TZID=Europe/Zurich:20261011T023000
LOCATION:Fri-Son\, Route de la Fonderie 13\, 1700 Fribourg
URL:https://www.petzi.ch/de/events/63020-fri-son-sessa-bra/
END:VEVENT
END:VCALENDAR
