BEGIN:VCALENDAR
BEGIN:VEVENT
SUMMARY:Orcutt Shelley Miller (US) & Support: Domi Chansorn (CH)
DTSTART;TZID=Europe/Zurich:20260430T203000
DTEND;TZID=Europe/Zurich:20260501T023000
LOCATION:Bogen F\, Viaduktstrasse 97\, 8005 Zürich
URL:https://www.petzi.ch/de/events/62882-bogen-f-orcutt-shelley-miller-us-
 support-domi-chansorn-ch/
END:VEVENT
END:VCALENDAR
