BEGIN:VCALENDAR
BEGIN:VEVENT
SUMMARY:Gnod\, Elischa Heller
DTSTART;TZID=Europe/Zurich:20260513T203000
DTEND;TZID=Europe/Zurich:20260514T023000
LOCATION:Rössli Bar - Verein Restaurant Sous Le Pont\, Neubrückstrasse 8
 \, 3001 Bern
URL:https://www.petzi.ch/de/events/62519-rossli-bar-verein-restaurant-sous
 -le-pont-gnod-elischa-heller/
END:VEVENT
END:VCALENDAR
