BEGIN:VCALENDAR
BEGIN:VEVENT
SUMMARY:Maria Somerville (IE) + Support: Alexia Thomas
DTSTART;TZID=Europe/Zurich:20260519T204500
DTEND;TZID=Europe/Zurich:20260520T024500
LOCATION:Kuppel Basel\, Nachtigallenwäldeli 9\, 4051 Basel
URL:https://www.petzi.ch/de/events/62398-kuppel-maria-somerville-ie-suppor
 t-alexia-thomas/
END:VEVENT
END:VCALENDAR
