BEGIN:VCALENDAR
BEGIN:VEVENT
SUMMARY:LALALAR + 3YOONI
DTSTART;TZID=Europe/Zurich:20260523T210000
DTEND;TZID=Europe/Zurich:20260524T030000
LOCATION:USINE À GAZ - SALLE 1\, Rue César Soulié 1\, 1260 Nyon
URL:https://www.petzi.ch/de/events/62395-usine-a-gaz-lalalar-3yooni/
END:VEVENT
END:VCALENDAR
