BEGIN:VCALENDAR
BEGIN:VEVENT
SUMMARY:HIP HOP LIVE! : JEUNE MORTY [FR] + SID SPADA [CH]
DTSTART;TZID=Europe/Zurich:20260424T210000
DTEND;TZID=Europe/Zurich:20260425T030000
LOCATION:La Gravière\, 9\, chemin de la Gravière\, 1227 Les Acacias-Gen
 ève
URL:https://www.petzi.ch/de/events/62281-la-graviere-hip-hop-live-jeune-mo
 rty-fr-sid-spada-ch/
END:VEVENT
END:VCALENDAR
