BEGIN:VCALENDAR
BEGIN:VEVENT
SUMMARY:Los Pepes & The Sex Organs
DTSTART;TZID=Europe/Zurich:20240501T211500
DTEND;TZID=Europe/Zurich:20240502T031500
LOCATION:Rössli Bar - Verein Restaurant Sous Le Pont\, Neubrückstrasse 8
 \, 3001 Bern
URL:https://www.petzi.ch/de/events/54914-rossli-bar-verein-restaurant-sous
 -le-pont-los-pepes-the-sex-organs/
END:VEVENT
END:VCALENDAR
