BEGIN:VCALENDAR
BEGIN:VEVENT
SUMMARY:Cédric Chapuis // Une Vie Sur Mesure
DTSTART;TZID=Europe/Zurich:20190321T210000
DTEND;TZID=Europe/Zurich:20190324T030000
LOCATION:Satellite\, Bâtiment CM EPFL\, Avenue Piccard\, 1015 Lausanne
URL:https://www.petzi.ch/de/events/41448-satellite-cedric-chapuis-une-vie-
 sur-mesure/
END:VEVENT
END:VCALENDAR
